BEGIN:VCALENDAR
VERSION:2.0
PRODID:eintopf.info
METHOD:REQUEST
BEGIN:VEVENT
UID:b15ff2a1-07bc-436c-9725-4c7c049fce48
SUMMARY:KOLLEKTION #26: trans* - einfach selbst bestimmt?
DTSTART:20240311T190000Z
URL:https://eintopf.info/event/b15ff2a1-07bc-436c-9725-4c7c049fce48
DESCRIPTION:Das Citizen.KANE.Kollektiv und Janka Kluge laden anlässlich
  der Veröffentlichung des Buchs “Einfach selbst bestimmt - Texte zur
  Lebensrealität jenseits der Geschlechternormen” zu einer
  bemerkenswerten Buchpräsentation mit Gespräch und Musik ein. Zu Gast in
  der Akademie für gesprochenes Wort werden die Psychotherapeutin Kathrin
  Bach und der Autor\, Biologe und trans* Aktivist Eli Kappo sein. \n\nEli
  Kappo erzählt vom Weg zum eigenen Geschlecht\, der keine Reise in nur
  eine Richtung war. Dem Buch hat er den Beitrag “Das Recht auf eine
  Entscheidung” beigesteuert. \n\nKathrin Bach beschäftigt sich mit
  Identitätsthematiken bei Kindern und Jugendlichen. Sie hat für das Buch
  den Text “Begleittherapie als Schlüssel zum Verständnis von  trans*
  Kindern und Jugendlichen\, auf dem Hintergrund  der aktuellen
  Genderdiskussion” geschrieben. 		\n			 	 	 		\nDie KOLLEKTION #26:
  “trans* - einfach selbst bestimmt?” findet innerhalb der
  Veranstaltungsreihe „Chancengleichheit im Fokus“ der Abteilung für
  Chancengleichheit der Stadt Stuttgart rund um den 8. März\, dem
  Internationalen feministischen Kampftag\, statt.  						\nFünf
  Buchstaben und ein Sternchen reichen\, um auf eine hitzig geführte
  Debatte zu verweisen: trans*. Dabei ist trans* die Lebensrealität
  zahlreicher Menschen und oft von psychischer\, körperlicher und
  struktureller Gewalt geprägt. Der unbedingt nötige Abbau dieser
  Diskriminierungen wird nun öffentlich diskutiert und langsam - z.B.
  durch das Selbstbestimmungsgesetz\, das 2024 verabschiedet werden soll -
  in Angriff genommen. Diese gesellschaftlichen und politischen Prozesse
  führen zu Fragen\, Kritik und Gegenwehr. Das Buch "Einfach selbst
  bestimmt" (herausgegeben von Janka Kluge und Julia Monro im KiWi-Verlag)
  enthält Texte von Aktivist*innen\, Psycholog*innen\,
  Wissenschaftler*innen und Betroffenen\, deren Stärke darin liegt\, dass
  sie ein differenziertes Bild dessen entwerfen\, was ein Leben jenseits
  der Geschlechternormen ist.\n\nEintritt frei. Anmeldungen unter:
  citizenkanekollektiv@gmail.com\n \n
LOCATION:Akademie für gesprochenes Wort\, Haußmannstraße 22 70188
  Stuttgart
ORGANIZER:mailto:Citizen.KANE.Kollektiv
END:VEVENT
END:VCALENDAR
