BEGIN:VCALENDAR
VERSION:2.0
PRODID:eintopf.info
METHOD:REQUEST
BEGIN:VEVENT
UID:b1335f31-2072-408c-bc51-259d2d55b7bc
SUMMARY:Queere Theke
DTSTART:20260917T163000Z
URL:https://eintopf.info/event/b1335f31-2072-408c-bc51-259d2d55b7bc
DTEND:20260917T180000Z
CATEGORIES:Podiumsdiskussion\,Queer
DESCRIPTION:Die Queere Theke ist ein Ort\, um gemeinsam zu lernen\, sich
  auszutauschen\, in Erinnerungen zu schwelgen und neue Ideen zu
  entwickeln. Ein Abend zum Zuhören und Mitreden. Wir freuen uns auf
  unsere Talk-Runden mit Euch im schnuckeligen UTOPIA Kiosk – bei
  leckeren Getränken und heißen Diskussionen! Kommt vorbei – wir freuen
  uns auf Euch! \n\nDie Queere Theke findet einmal im Monat statt. Die
  Termine sind: 19.03.\, 16.04.\, 21.05.\, 18.06.\, 16.07.\, 17.09.\,
  15.10. und 19.11. Das jeweilige Thema geben wir rechtzeitig bekannt!
  \n\nDu hast ein Thema\, über das wir dringend mal sprechen sollten?
  Schreib uns eine Mail an kontakt@100mensch.de.\n
LOCATION:UTOPIA Kiosk\, Lazarettstraße 5\, 70182 Stuttgart
GEO:48.7730256;9.18134848847793
ORGANIZER:mailto:Projekt 100% MENSCH
END:VEVENT
END:VCALENDAR
