BEGIN:VCALENDAR
VERSION:2.0
PRODID:eintopf.info
METHOD:REQUEST
BEGIN:VEVENT
UID:b065e992-feb4-4160-a2a3-c57c9cb0ed88
SUMMARY:738. Montagsdemo gegen Stuttgart 21
DTSTART:20241223T170000Z
URL:https://eintopf.info/event/b065e992-feb4-4160-a2a3-c57c9cb0ed88
CATEGORIES:Demonstration\,Mobilität
DESCRIPTION:Die 738. Montagsdemo findet am 23. Dezember 2024 ab 18 Uhr auf
  dem Kleinen Schlossplatz in Stuttgart statt. Der Demozug entfällt\,
  stattdessen verweilen wir etwas länger auf dem Kleinen Schlossplatz\,
  bei Musik und einigen
  Überraschungen.\nhttps://www.bei-abriss-aufstand.de/2024/12/19/die-738-m
 ontagsdemo-am-23-12-24-auf-dem-kleinen-schlossplatz/\nhttps://parkschuetze
 r.de/statements/
LOCATION:Kleiner Schlossplatz Stuttgart\, Kleiner Schlossplatz Stuttgart
GEO:48.778592149999994;9.177205452916663
ORGANIZER:mailto:PARKSCHUETZER.DE
END:VEVENT
END:VCALENDAR
