BEGIN:VCALENDAR
VERSION:2.0
PRODID:eintopf.info
METHOD:REQUEST
BEGIN:VEVENT
UID:af428845-f6ff-425a-a63a-55c96da016ec
SUMMARY:Austellungseröffnung „Riesenslalom“ Marc Allgaier
DTSTART:20240201T183000Z
URL:https://eintopf.info/event/af428845-f6ff-425a-a63a-55c96da016ec
DESCRIPTION:Marc Allgaier\, zwei Arme\, zwei Beine. Zwischen Vernunft und
  Ekstase\, auf der Suche nach dem wahren Leben\, verirrt er sich meist im
  Spektakel der Zeit. Der Nautik aber mächtig\, findet er den Weg des
  Ausdrucks. Als Beobachter\, als Konstrukteur\, als Teilnehmer eines dem
  Einzelnen schon lange unempfänglich gewordenen\, riesigen menschlichen
  Gedankenkosmos\, versucht er sein Glück in der Verwirklichung seiner
  selbst. 1993 geboren in Kirchheim/Teck\, lebt und arbeitet in Stuttgart.
  Er studierte Kommunikationsgestaltung an der Hochschule für Gestaltung
  Schwäbisch Gmünd. Sein Standbein\, eine Slalomfahrt durch die
  Turbulenzen des Lebens. Davon beflügelt\, versucht er diese zu
  verstehen\, zu interpretieren und in eine neue Sprache zu verwandeln. Ein
  Versuch mit offenem Ausgang. Seine Arbeiten reichen von Grafik über
  Fotografie und Collage bis zur Malerei. Also Schnee von gestern bei
  bestem Kaiserwetter. \nDie Ausstellung ist vom 01. Februar bis 16. März
  jeden Mittwoch ab 19:30 Uhr im DemoZ zu sehen.
LOCATION:Demokratisches Zentrum Ludwigsburg (DemoZ)\,  Wilhelmstr. 45/1
  71638 Ludwigsburg 
GEO:48.89585;9.18429
ORGANIZER:mailto:Demokratisches Zentrum Ludwigsburg (DemoZ)
END:VEVENT
END:VCALENDAR
