BEGIN:VCALENDAR
VERSION:2.0
PRODID:eintopf.info
METHOD:REQUEST
BEGIN:VEVENT
UID:adb06e49-c3c5-4725-8b6a-9be518cf50ee
SUMMARY:Critical Mass Stuttgart 01/26
DTSTART:20260102T173000Z
URL:https://eintopf.info/event/adb06e49-c3c5-4725-8b6a-9be518cf50ee
DTEND:20260102T210000Z
CATEGORIES:Gesellig\,Mobilität
DESCRIPTION:Die Critical Mass: mehr als nur eine Radtour in der Stadt.
  criticalmassstuttgart.wordpress.com  Auf dieser Karte werden geplante
  Strecken veröffentlicht. Je nach den aktuellen Bedingungen kann der
  Verlauf in Abstimmung mit der Einsatzleitung angepasst werden.  Infos
  auch auf criticalmass.in/stuttgart  \n\nLivetracking:
  https://www.criticalmaps.net/map#13/48.7831/9.1841\n\nhttps://umap.openst
 reetmap.de/de/map/critical-mass-stuttgart_109602
LOCATION:Feuerseeplatz\, Feuerseeplatz Stuttgart\, Feuerseeplatz
GEO:48.7730716;9.1648464
ORGANIZER:mailto:Critical Mass Stuttgart
END:VEVENT
END:VCALENDAR
