BEGIN:VCALENDAR
VERSION:2.0
PRODID:eintopf.info
METHOD:REQUEST
BEGIN:VEVENT
UID:ad6a4426-8f59-422f-a17e-5f8bbd3c3c1c
SUMMARY:Improtheater
DTSTART:20240927T180000Z
URL:https://eintopf.info/event/ad6a4426-8f59-422f-a17e-5f8bbd3c3c1c
CATEGORIES:Theater\,Sonstiges
DESCRIPTION:Die Improtheater-Gruppe Kanonenfutter\, die sich seit rund zehn
  Jahren über die Bühnen Stuttgarts\, aber auch Baden-Württemberg und
  darüber hinaus gespielt haben\, stoppt erneut für einen Besuch in der
  Raupe:\nIhr wisst nicht\, was da mit aller Macht auf euch zukommt – ist
  aber nicht schlimm\, denn: Wir wissen es auch nicht! Aber um so schneller
  pumpt das Adrenalin durch die Adern unserer Schauspieler\, wenn sie nach
  euren Vorgaben Theater aus dem Ärmeln schütteln müssen. Mit schnellen
  Szenen\, wüsten Wortwitzen und grandiosem Gesang wird der Abend
  einzigartig – denn was passiert\, wird so nie wieder aufgeführt. So
  oder so: Es wird komisch\, dramatisch und anders als man denkt!\n\nWir
  freuen uns auf einen ereignisreichen Abend mit Kanonenfutter. Kommt
  vorbei :)\n\nBezahlung: Wenn wir festen Eintritt nehmen würden\, dann
  würde er 15€ kosten. Wir wollen aber allen Menschen ermöglichen\,
  Improtheater zu erleben. Deshalb gibt es keinen festen Ticketpreis. Du
  zahlst in bar nach der Show nach deinen Möglichkeiten soviel wie dir der
  Abend wert war.\n
LOCATION:Raupe Immersatt\, Johannesstraße 97\, Stuttgart
GEO:48.782018;9.1579717
ORGANIZER:mailto:Raupe Immersatt
END:VEVENT
END:VCALENDAR
