BEGIN:VCALENDAR
VERSION:2.0
PRODID:eintopf.info
METHOD:REQUEST
BEGIN:VEVENT
UID:ad425439-0bac-4358-a572-09737ea97697
SUMMARY:WIE TRAUER ZUR WUT WIRD
DTSTART:20230309T180000Z
URL:https://eintopf.info/event/ad425439-0bac-4358-a572-09737ea97697
DESCRIPTION:SÖS und Die Anstifter laden ein:\n\nBericht von Dicle Toptanci
  aus dem Erdbebengebiet von Kurdistan\n\nWIE TRAUER ZUR WUT WIRD\n\nDicle
  ist in Stuttgart geboren\, lebt seit 10 Jahren in der Türkei.\nVon
  ersten Tag des Erdbebens an ist sie in den zerstörten Städten und
  Dörfern unterwegs. Mit ihren Helferinnen erfasst sie\, was am
  dringendsten ist\, von Zelten bis zum Katzenfutter. Gemeinsam mit den
  Initiativen der Zivilgesellschaft wird die Versorgung organisiert.\nDicle
  kann berichten vom Kampf gegen Hoffnungslosigkeit\, Kälte und Hunger.
  Und sie kann berichten\, wie ihre Arbeit von den passiven\, habgierigen
  und korrupten staatlichen Behörden Erdogans sabotiert wird.\nDicle kann
  uns erklären\, wie in der ganzen Türkei die tiefe Trauer um die Toten
  zur Wut gegen die Erdogan - Regierung geworden ist.\n\nWo?   AWO Altes
  Feuerwehrhaus Möhringer Str. 56 (Heslach)\nWann?   Donnerstag 9. März
  19 Uhr
LOCATION:Altes Feuerwehrhaus\, Heslach am Erwin-Schöttle-Platz (Möhringer
  Straße 56)
ORGANIZER:mailto:Stuttgart Ökologisch Sozial (SÖS) + Die Anstifter
END:VEVENT
END:VCALENDAR
