BEGIN:VCALENDAR
VERSION:2.0
PRODID:eintopf.info
METHOD:REQUEST
BEGIN:VEVENT
UID:acc2dd53-019b-4a84-8c1f-89725438433a
SUMMARY:SoLaWiS Hofeinsatz auf dem Reyerhof
DTSTART:20260620T073000Z
URL:https://eintopf.info/event/acc2dd53-019b-4a84-8c1f-89725438433a
DTEND:20260620T103000Z
CATEGORIES:DIY\,Ernährung
DESCRIPTION:
LOCATION:Ort wird kurzfristig bekanntgegeben
ORGANIZER:mailto:Solidarische Landwirtschaft Stuttgart
END:VEVENT
END:VCALENDAR
