BEGIN:VCALENDAR
VERSION:2.0
PRODID:eintopf.info
METHOD:REQUEST
BEGIN:VEVENT
UID:acb63f78-6850-430d-a0bc-2d1d41036a4c
SUMMARY:Worthunger - Poetry Slam
DTSTART:20260528T173000Z
URL:https://eintopf.info/event/acb63f78-6850-430d-a0bc-2d1d41036a4c
CATEGORIES:Sonstiges\,Sonstiges
DESCRIPTION:Du liebst Sprache\, Emotionen und kreative Performance? Dann
  bist du bei unserem Poetry Slam genau richtig. An diesem Abend wird das
  Café zur Bühne für selbstgeschriebene Texte\, starke Stimmen und echte
  Gefühle.\nWAS IST EIN POETRY SLAM?\n\nEin Poetry Slam ist ein
  literarischer Wettbewerb\, bei dem Autor:innen ihre eigenen Texte live
  vor Publikum präsentieren. Ob lustig\, nachdenklich\, politisch oder
  persönlich – alles ist erlaubt\, solange der Text selbst verfasst
  ist.\n\nSO LÄUFT DER ABEND AB:\nInsgesamt treten 5 feste
  Teilnehmer:innen gegeneinander an.\nZusätzlich gibt es einen offenen
  Spontan-Slot: Wenn du dich traust\, kannst du dich vor Ort melden und
  selbst auf die Bühne gehen.\nJeder Beitrag darf maximal 7 Minuten
  dauern.\nDer Slam besteht aus zwei Runden: In der Vorrunde treten alle
  gegeneinander an – das Publikum entscheidet\, welche 3 Personen
  weiterkommen. In der Finalrunde treten die besten 3 Poet:innen mit einem
  weiteren Text gegeneinander an.\n\nDISCLAIMER\nUnser Poetry Slam steht
  für Offenheit\, Respekt und Vielfalt. Es gibt keinen Platz für
  Faschismus\, Rassismus\, Sexismus\, Queerfeindlichkeit oder andere Formen
  von Diskriminierung. Wir erwarten von allen Beteiligten einen
  wertschätzenden Umgang miteinander – auf und vor der Bühne.\n\n
LOCATION:Raupe Immersatt\, Johannesstraße 97\, Stuttgart
GEO:48.782018;9.1579717
ORGANIZER:mailto:Raupe Immersatt
END:VEVENT
END:VCALENDAR
