BEGIN:VCALENDAR
VERSION:2.0
PRODID:eintopf.info
METHOD:REQUEST
BEGIN:VEVENT
UID:abd350f3-41a1-4446-a3df-904f84f885f5
SUMMARY:Filmabend
DTSTART:20260109T170000Z
URL:https://eintopf.info/event/abd350f3-41a1-4446-a3df-904f84f885f5
CATEGORIES:Kino\,Sonstiges
DESCRIPTION:Wir schauen den Film "Made in Bangladesh" um uns um den
  Kleiderkreisel herum mit den Produktionsbedingungen von Klamotten
  auseinanderzusetzen.\nKommt gerne vorbei :)\nSnacks und Getränke gibt's
  bei uns.
LOCATION:Weissenburg Zentrum LSBTIQA+ Stuttgart\, Weissenburgstraße 28A\,
  70180 Stuttgart\, Oben
ORGANIZER:mailto:Weissenburg e.V.
END:VEVENT
END:VCALENDAR
