BEGIN:VCALENDAR
VERSION:2.0
PRODID:eintopf.info
METHOD:REQUEST
BEGIN:VEVENT
UID:ab33f94b-51fd-4049-a932-488557659d45
SUMMARY:Solaroffensive Bad Cannstatt
DTSTART:20241022T163000Z
URL:https://eintopf.info/event/ab33f94b-51fd-4049-a932-488557659d45
CATEGORIES:Podiumsdiskussion\,Klimagerechtigkeit
DESCRIPTION:Solarenergie nutzen - jetzt informieren:
  Informationsveranstaltung für PV-Interressierte\nSolar-Scouts stuttgart
LOCATION:Neues Rathaus Bad Cannstatt \, Marktplatz 10 70372 Stuttgart\,
  Sitzungssaal 
ORGANIZER:mailto:Solar-scouts Bad Cannstatt
END:VEVENT
END:VCALENDAR
