BEGIN:VCALENDAR
VERSION:2.0
PRODID:eintopf.info
METHOD:REQUEST
BEGIN:VEVENT
UID:ab12b459-432b-4ca8-a848-b7e6db216cd7
SUMMARY:Gasparitsch Stammtisch
DTSTART:20240827T170000Z
URL:https://eintopf.info/event/ab12b459-432b-4ca8-a848-b7e6db216cd7
DTEND:20240827T203000Z
DESCRIPTION:In lockerer Kneipenatmosphäre sprechen wir über das
  Gasparitsch\, Ideen für neue Angebote oder wie man das Stadtteilzentrum
  und den Stadtteil gemeinsam noch besser machen können!\n\nJeden letzten
  Dienstag im Monat\, 19 Uhr\nim Gasparitsch
LOCATION:Stadtteilzentrum Gasparitsch\, Rotenbergstr. 125\, 70190 Stuttgart
GEO:48.788058;9.2116285
END:VEVENT
END:VCALENDAR
