BEGIN:VCALENDAR
VERSION:2.0
PRODID:eintopf.info
METHOD:REQUEST
BEGIN:VEVENT
UID:aa826688-650c-4f56-b869-4f05aea2a200
SUMMARY:Musikalische-politische Matinee für Menschenrechte und
  Meinungsfreiheit - Für Julian Assange und Maryia Kalesnikava
DTSTART:20220526T090000Z
URL:https://eintopf.info/event/aa826688-650c-4f56-b869-4f05aea2a200
DESCRIPTION:… und alle Journalist*innen\, die weltweit verfolgt\, mit dem
  Leben bedroht oder ermordet wurden.\n\nMit\nProf. Bascha Mika\, ehemalige
  Chefredakteurin der TAZ und der Frankfurter Rundschau\n
  \n\nInternationale Musik:\n\nZura Dagnidze (Georgien)\nMazen Mohsen
  (Syrien)\n\nKasia Kadlubowska (Polen)\n\nMohamed Sellami
  (Tunesien)\n\nMarie Louise (Deutschland)\n\nModeration:\n\nJoe
  Bauer\n\nMaryia Kalesnikava wurde 2021 mit dem Stuttgarter FriedensPreis
  der AnStifter ausgezeichnet\, Julian Assange wurde der FriedensPreis 2020
  zugesprochen. Beide sind unter menschenunwürdigen Bedingungen inhaftiert
  – Assange sitzt nach sieben Jahren Botschafts-Asyl seit 2019 im
  Gefängnis\, Maryia Kalesnikava seit 2020. Die AnStifter-Matinee ist eine
  Solidaritätsadresse an alle Journalist*innen\, die weltweit verfolgt\,
  mit dem Leben bedroht oder ermordet wurden.\n\nTickets:  0711-40207 -20 /
  -21 / -22 / -23
LOCATION:Theaterhaus Stuttgart
ORGANIZER:mailto:Die AnStifter
END:VEVENT
END:VCALENDAR
