BEGIN:VCALENDAR
VERSION:2.0
PRODID:eintopf.info
METHOD:REQUEST
BEGIN:VEVENT
UID:a82884e9-bf63-4e02-930b-c9407d2bd40f
SUMMARY:Was ist und wie geht SoLaWiS
DTSTART:20251104T180000Z
URL:https://eintopf.info/event/a82884e9-bf63-4e02-930b-c9407d2bd40f
CATEGORIES:DIY\,Ernährung
DESCRIPTION:Bei diesem Infoabend erfährst du alles\, was zum Mitmachen bei
  der Solidarischen Landwirtschaft Stuttgart wichtig ist. Die nächste
  Saison beginnt im Januar 2026. Aber bereits Ende November 2025 machen wir
  eine Bietrunde\, an der alle teilnehmen\, die (wieder) dabei sein wollen.
LOCATION:online (bitte unter mail@solawis.de nachfragen)
ORGANIZER:mailto:Solidarische Landwirtschaft Stuttgart
END:VEVENT
END:VCALENDAR
