BEGIN:VCALENDAR
VERSION:2.0
PRODID:eintopf.info
METHOD:REQUEST
BEGIN:VEVENT
UID:a661e5d2-89b6-4faa-a88e-046efe691631
SUMMARY:Impro Singen Stuttgart: Ort verlegt - Commons Kitchen
DTSTART:20251112T183000Z
URL:https://eintopf.info/event/a661e5d2-89b6-4faa-a88e-046efe691631
DTEND:20251112T200000Z
CATEGORIES:Offenes Treffen\,Sonstiges
DESCRIPTION:ACHTUNG: Heute in der Commons Kitchen\, ebenfalls im
  PRISMA\n\nMusik aus dem Moment mit Stimme und Körper\nImprovisation mit
  Circle Songs nach Bobby McFerrin und anderen spielerischen
  Impro-Formaten\n1) offen für alle\n2) nur Stimme und Body Percussion\n3)
  nur improvisiert\n4) it's free\n\nAlso: komm und mach mit
LOCATION:commons kitchen - Mitmachküche\, Bahnhofstraße 14-18\, 70372 Bad
  Cannstatt
GEO:48.8024492;9.2171569
ORGANIZER:mailto:Sunny High Club
END:VEVENT
END:VCALENDAR
