BEGIN:VCALENDAR
VERSION:2.0
PRODID:eintopf.info
METHOD:REQUEST
BEGIN:VEVENT
UID:a629d281-b88c-42c6-8acf-8ee6ba5988d2
SUMMARY:Trans Pride at UTOPIA
DTSTART:20250906T090000Z
URL:https://eintopf.info/event/a629d281-b88c-42c6-8acf-8ee6ba5988d2
CATEGORIES:Demonstration\,Queer
DESCRIPTION:hey queers!! ₊✩‧₊˚౨ৎ˚₊✩‧₊ our plan for
  the Trans Pride this Saturday 06.09 goes as follows: \n\n11:00-12:30.
  meet-up to go together to the demo –with the signs we painted together
  on Friday x\n\n13:00. walk that demo\, serve trannies\n\n15:30-21:00.
  hang-out after the demo\, get some drinks\, go together to the afterparty
  in Sunny High\n\ncome join us ₊✩‧₊˚౨ৎ˚₊✩‧₊ lets be
  loud
LOCATION:UTOPIA Kiosk\, Lazarettstraße 5\, 70182 Stuttgart
GEO:48.7730256;9.18134848847793
ORGANIZER:mailto:UTOPIA Kiosk
END:VEVENT
END:VCALENDAR
