BEGIN:VCALENDAR
VERSION:2.0
PRODID:eintopf.info
METHOD:REQUEST
BEGIN:VEVENT
UID:a4b44a73-1c61-475f-b9c3-531d5149af5c
SUMMARY:Zukunftsinsel #2 - Summer Opening
DTSTART:20260509T120000Z
URL:https://eintopf.info/event/a4b44a73-1c61-475f-b9c3-531d5149af5c
DTEND:20260509T210000Z
CATEGORIES:Konzert & Party\,Klimagerechtigkeit
DESCRIPTION:Zukunftsinsel 2.0 – Die Vision geht weiter! ✨ \n\nDie
  Stuttgarter Veranstaltungskollektive laden euch herzlich zur zweiten
  Runde auf die Kulturinsel ein\, um gemeinsam einen Tag voller Musik\,
  Kunst und Gemeinschaft zu erleben.\n\nAb 14 Uhr erwartet euch ein buntes
  Programm mit vielfältigen Bewegubgs- und Kreativworkshops für jedes
  Alter\, begleitet von entspannten Beats im Freien\, Live-Musik und einem
  Club-Special zum Abschluss. \nDieses Jahr gibt es leckere Speisen vom
  KiFaZ aus dem BiNe. Mit den Einnahmen finanzieren sie ihre Kinder und
  Familienfreizeit! 🫶\n\nWir legen großen Wert auf Inklusion\, damit
  dieses Erlebnis für alle zugänglich bleibt. \nEintritt für alle von
  1-111 Tickets ab 0 Euro online und an der tür. \n\n#zahlwasdukannst
  #nachbarschaftsverträglich #kulturfüralle#wegvomsilodenken
  #subkulturtrifftindustrie\n\nTickets:
  \nhttps://www.kulturinsel-stuttgart.org/event-details/zukunftsinsel-2-sum
 mer-opening
LOCATION:Kulturinsel\, Güterstraße 4\, 70372 Stuttgart
GEO:48.7974711;9.2264063
ORGANIZER:mailto:Interkollektives Meetup Stuttgart
END:VEVENT
END:VCALENDAR
