BEGIN:VCALENDAR
VERSION:2.0
PRODID:eintopf.info
METHOD:REQUEST
BEGIN:VEVENT
UID:a4ac484b-3acc-4bd9-bf0e-30351d38fcf1
SUMMARY:radioSCHAUen – Bo & Herb
DTSTART:20251025T170000Z
URL:https://eintopf.info/event/a4ac484b-3acc-4bd9-bf0e-30351d38fcf1
CATEGORIES:Konzert & Party\,Sonstiges
DESCRIPTION:Elektronische Musik mit Visuals von Bubeck+Siglinger\n\nLive im
  Foyer\, on Air und im Videostream
  (https://youtube.com/live/0h5RIVVMF1A)\n\nBo & Herb\nsind zwei
  elektronische Musiker aus Stuttgart. Als Duo bringen sie analoge und
  digitale Klangwelten auf die Bühne: Bo steuert digitale Synthesizer\,
  Drums und Samples über ein controllerbasiertes Setup\, während Herb mit
  modularen\, analogen Synthesizern und Patchkabeln arbeitet. Beide Systeme
  laufen getrennt – verbunden sind sie durch das gemeinsame Spiel. Ihre
  Musik entsteht live und direkt – zwischen präzisem Aufbau und freiem
  Spiel\, getragen von rhythmischer Energie und atmosphärischer
  Dichte.\n\nBubeck+Siglinger (Visuals)\nKünstlerisches Ziel ist die
  produktive und nach Möglichkeit innovative Verknüpfung von bildlicher
  Darstellung und geschriebenem Wort. Dabei wird versucht\, die unter
  „Illustration“ auf der einen und „Bildbeschreibung“ auf der
  anderen Seite firmierenden herkömmlichen Kategorien zu vermeiden und
  neue\, emergente Formen des ästhetischen Zusammenspiels zu
  erproben.\n\nEinlass 18.30 Uhr\, Eintritt
  frei\nhttps://www.freies-radio.de/sendung/radioschauen-ihre-ohren-werden-
 augen-machen\n\nGefördert vom Kulturamt der Stadt Stuttgart
LOCATION:Freies Radio für Stuttgart\, Stöckachstr.16a\, 70190 Stuttgart
GEO:48.7899774;9.1996554
ORGANIZER:mailto:Freies Radio für Stuttgart
END:VEVENT
END:VCALENDAR
