BEGIN:VCALENDAR
VERSION:2.0
PRODID:eintopf.info
METHOD:REQUEST
BEGIN:VEVENT
UID:a45fc1a1-0292-46a4-9ca8-fad07febc813
SUMMARY:Queerer Jugendtreff DIY Aktion mit Buttons\, Häkeln\, ...
DTSTART:20251101T130000Z
URL:https://eintopf.info/event/a45fc1a1-0292-46a4-9ca8-fad07febc813
DTEND:20251101T170000Z
CATEGORIES:Offenes Treffen\,Queer
DESCRIPTION:Winter is coming! Am 01.11. stimmen wir uns von 14-18 Uhr im
  Juze Backnang auf die kalte Jahreszeit ein. ❄️ Dazu gehört definitiv
  die Handarbeitssachen wieder auszupacken!  Wir laden alle queeren
  Jugendlichen und jungen Erwachsenen zu einem kostenlosen Nachmittag mit
  Brett- und Gesellschaftspielen\, einer Häkelgruppe und unserer
  Buttonmaschine ein.\n\n🧶 Die Häkelgruppe eigenet sich für alle
  Fähigkeitsstufen von absoluten Anfänger*innen bis zu Häkel-Profis. Wir
  bitte alle\, die eine Häkelnadel haben\, diese mitzubringen. Wolle und
  ein paar Nadeln stellen wir aber zur Verfügung.\n\n🃏 Wir haben viele
  Spiele da\, die zum Teil auch Queerness als Thema haben. Ihr könnt auch
  eigene Spiele mitbringen\, achtet aber darauf\, dass sie nicht verloren
  gehen.\n\nSelbstverständlich gibt es neben den Aktivitäten auch die
  Möglichkeit einfach nur zu chillen\, mit anderen zu quatschen oder sich
  durch unsere Flyer zu wühlen. Kommt dafür am 01.11. in die Mühlstraße
  3 nach Backnang!\n\n🏳️‍🌈 Der Rems-Queer-Kreis ist eine
  Jugendgruppe für queere Jugendliche bis 27 Jahren. Also offen für alle
  die sich als lesbisch\, schwul\, bisexuell\, pansexuell\, trans\, inter\,
  queer\, asexuell oder aromantisch etc. identifizieren. Auch Allys\,
  Neugierige und Menschen\, die sich fragen ob sie vielleicht queer sind
  sind willkommen.\n\n🫵🏽 Hast du Lust queere Jugendarbeit im
  ländlichen Raum zu unterstützen? Dann werde Teil unseres Orga Teams\,
  denn der Rems-Queer-Kreis lebt von uns Queers\, die sich das Programm
  selbst gestalten! Schreib uns eine Privatnachricht oder komm zu einem
  offenen Orga Treffen! Die Termine findest du auf unseren
  Socials.\n\nInstagram: @rems_queer_kreis\nMastodon:
  lsbt.me/@rems_queer_kreis
LOCATION:Juze Backnang\, Mühlstraße 3\, Backnang
GEO:48.94637055;9.42021475
ORGANIZER:mailto:Rems Queer Kreis
END:VEVENT
END:VCALENDAR
