BEGIN:VCALENDAR
VERSION:2.0
PRODID:eintopf.info
METHOD:REQUEST
BEGIN:VEVENT
UID:a35e6327-4e7f-474d-a245-a62871a33a48
SUMMARY:Konversionstour - Der Kampf des Collettivo Di Fabbrica
DTSTART:20240626T160000Z
URL:https://eintopf.info/event/a35e6327-4e7f-474d-a245-a62871a33a48
CATEGORIES:Vortrag\,Mobilität
DESCRIPTION:Mit der Konversionstour wollen wir den Kampf der Kolleg*innen
  vom Collettivo di Fabbrica in Florenz unterstützen. Einerseits durch die
  Verbreitung des Kampfes bei Gesprächen und Veranstaltungen entlang der
  Tour und durch Sichtbarkeit im öffentlichen Raum und Social-Media.
  Andererseits wollen wir auch Vorbesetllungen für das Lastenrad sammeln\,
  mit dem wir die Tour machen. Dazu können potenzielle Kund*innen das Rad
  live sehen und probefahren.\n\n\nDazu machen wir in 14 Städten einen
  Austauschraum.\n\nKomm vorbei!
LOCATION:Trott.war\, Falkertstr. 56\, Stuttgart
GEO:48.782021650000004;9.162419472322213
ORGANIZER:mailto:Tobi Rosswog, Kathy Ziegler, Cedric Büchling
END:VEVENT
END:VCALENDAR
