BEGIN:VCALENDAR
VERSION:2.0
PRODID:eintopf.info
METHOD:REQUEST
BEGIN:VEVENT
UID:a0cd7475-1698-4efc-914b-6cc818dfd686
SUMMARY:Mit herausfordernden Begegnungen umgehen. Stolpersteinen der
  Kommunikation einfühlsam begegnen
DTSTART:20251108T090000Z
URL:https://eintopf.info/event/a0cd7475-1698-4efc-914b-6cc818dfd686
DTEND:20251108T160000Z
CATEGORIES:Workshop\,Sonstiges
DESCRIPTION:Du bringst deine Situation\, wir öffnen einen Raum\, um diese
  zu erforschen und spielerisch in Kontakt zu kommen. Dies wird ein Tag\,
  an dem wir uns deinen Herausforderungen in Begegnungen zuwenden. Wenn wir
  bereit sind unsere Beziehungen lebendig zu gestalten liegt es an uns\,
  auf unsere Herausforderungen zu zu gehen. Leicht legen wir unser
  Gegenüber in Urteilen fest\, diese Gewohnheit nehmen wir zum Anlass\,
  uns für unsere Gefühle und Bedürfnisse zu öffnen.\nAnstatt nur unsere
  Strategien zu verfolgen\, können wir auch die Bedürfnisse unserer
  Gegenüber in den Blick nehmen und das Verbindende entdecken. Je tiefer
  wir uns und unser Gegenüber verstehen und uns empathisch zuwenden\,
  desto wahrschein-licher gelangen wir zu beidseitiger Lebendigkeit und
  Verbundenheit. Und zu tragfähigen Lösungen. Dieser neue Weg braucht Mut
  und Vertrauen\, beides üben wir an diesem Tag mit der Gewaltfreien
  Kommunikation (GFK) ein.\n\nEinladung zu einem neuen Umgang mit
  Ressourcen und Geld\n\nWir alle brauchen materielle Sicherheit.
  Gleichwohl geben wir\nkeine Richtwerte oder Skalen für den Betrag\, den
  du geben möchtest. Stattdessen bitten wir um folgenden
  Prozess:\n\nFühle in dich hinein\, was dir möglich wäre zu geben\,
  ohne dich so zu überfordern\, dass dein Lebensunterhalt gefährdet
  wäre. \nDann spüre nach: wäre Groll in dir\, wenn du diesen Betrag
  geben würdest? \nWenn ja\, reduziere den Betrag. Stelle dir auch vor\,
  wie es wäre nichts zu geben. Dann probiere aus wie du körperlich
  reagierst\, wenn du den Betrag in Gedanken erhöhst.\nBitte traue deiner
  Intuition oder deinem Bauchgefühl darüber\, welcher Betrag für dich
  stimmig ist.\nHier endet der Prozess\, und du kannst uns überweisen\,
  was du entschieden hast 💞\nSei dir bewusst\, dass deine Entscheidung
  willkommen ist.\n\n \nZum Hintergrund unserer Entscheidung\, dies so zu
  handhaben: \n\nWir betrauern\, dass in dieser Welt\, in der wir alle
  heute leben\, Mangeldenken tief in uns verankert ist. Gleichzeitig
  brauchen wir materielle Ressourcen\, um unsere Workshops und
  Übungsabende anbieten zu können. Inspiriert von der Schenk-Ökonomie
  wollen wir uns vom Mangeldenken befreien\, indem wir unsere Bereitschaft
  zu geben und zu empfangen ausdehnen. Wir wollen dich einladen\, dazu
  beizutragen\, dass unser Geben und Nehmen uns alle gegenseitig trägt.
  \nWir freuen uns\, dich in unserem Workshop begrüßen zu können\,\nInes
  Gläsle und Tomislav Knaffl
LOCATION:Gebrüder-Schmid-Zentrum im Generationenhaus Heslach\,
  Gebrüder-Schmid-Weg 13\, Stuttgart\, Erdgeschoß
GEO:48.7630343;9.1586248
ORGANIZER:mailto:Ines Gläsle & Tomislav Knaffl
END:VEVENT
END:VCALENDAR
