BEGIN:VCALENDAR
VERSION:2.0
PRODID:eintopf.info
METHOD:REQUEST
BEGIN:VEVENT
UID:a0ae52e2-51f4-4b52-9be4-060551e989cb
SUMMARY:Kahlo Streich-Quartett : DJ PAPARAzZIa
DTSTART:20251018T180000Z
URL:https://eintopf.info/event/a0ae52e2-51f4-4b52-9be4-060551e989cb
CATEGORIES:Konzert & Party\,Sonstiges
DESCRIPTION:Klassik neu gedacht! Wer sagt\, dass Streichquartett nur was
  für altehrwürdige Konzertsäle ist? Das Kahlo Streichquartett zählt zu
  den spannendsten jungen Ensembles der europäischen Kammermusikszene.
  \n\nDie vier Musiker:innen aus Venezuela\, Japan und Spanien verbinden
  Virtuosität mit dem Mut\, neue Wege zu gehen.Sie schaffen Räume für
  Begegnung\, Nähe und echtes Zuhören.\n\nAuf dem Programm stehen zwei
  Meisterwerke: Joseph Haydn Streichquartett Op. 33 Nr. 1 in h-Moll und K.
  Penderecki Streichquartett Nr.3 „Blätter eines nicht geschriebenen
  Tagebuches“.\n\nEin Abend für alle\, die Lust auf starke Klänge\,
  neue Perspektiven und intensive musikalische Erlebnisse haben. Das Kahlo
  Quartett bringt diese Musik mit Klarheit\, Leidenschaft und einem offenen
  Ohr für das Heute auf die Bühne.\n\nGenreübergreifend am lauter/leiser
  machen und kompromisslos am Knöpfchen drehen. Von Trance über UK
  Hardcore bis Makina – nichts ist zu schade\,solange es für
  Bassgesichter und Knieschmerzen sorgt. \nSchon in renommierten Clubs wie
  Fridas Pier und dem Climax zu hören gewesen\, schlägt sein Herz
  besonders für die Off-Locations\, die er als Mitglied der
  Trendsportgruppe schaumig schlägt.\nFreut euch auf schnell und
  verträumt mit PapaRazzia\n\n
LOCATION:Prisma\, Bahnhofstraße 14-18\, 70372 Stuttgart
GEO:48.8024492;9.2171569
ORGANIZER:mailto:Konzert im Kiosk
END:VEVENT
END:VCALENDAR
