BEGIN:VCALENDAR
VERSION:2.0
PRODID:eintopf.info
METHOD:REQUEST
BEGIN:VEVENT
UID:a033caad-c755-43e0-842d-62973c5a5dd7
SUMMARY:Workshop: Care in future! Vergesellschaftung von Sorgearbeit als
  Zukunftsperspektive
DTSTART:20230225T120000Z
URL:https://eintopf.info/event/a033caad-c755-43e0-842d-62973c5a5dd7
DESCRIPTION:Die Organisierung von Sorgearbeit in kapitalistischen
  Gesellschaften findet nicht nur unter höchst ungleichen Bedingungen\,
  sondern häufig unter unmenschlichen Bedingungen statt. Dabei ist
  Sorgearbeit die Grundlage menschlichen Zusammenlebens und wir alle darauf
  angewiesen.\n\nCare in Future ist ein interaktiver Workshop. Wir wollen
  uns mögliche Prozesse von Vergesellschaftung anschauen und den Raum
  öffnen\, gemeinsam zu überlegen\, wie wir Sorgearbeit in Zukunft
  bedürfnisorientiert organisieren wollen. Damit gemeint sind ganz
  verschiedene Ebenen: von der alltäglichen Versorgung im «Privaten»\,
  über Fürsorgebeziehungen\, bis hin zu öffentlichen Sozial-\,
  Erziehungs- und Gesundheitssektoren.\n\nEs sind alle Menschen herzlich
  eingeladen\, die Lust haben sich mit der Gestaltung und Verteilung von
  Sorgearbeit zu beschäftigen und über solidarische Alternativen zu
  sprechen.\n\n \n
LOCATION:Gewerkschaftshaus (Willi-Bleicher-Str. 20\, Stuttgart) 
ORGANIZER:mailto:Aktionsbündnis 8.März
END:VEVENT
END:VCALENDAR
