BEGIN:VCALENDAR
VERSION:2.0
PRODID:eintopf.info
METHOD:REQUEST
BEGIN:VEVENT
UID:9fcca70d-cbc1-458c-bdbe-99adc9c38171
SUMMARY:Pop-up Radwerkstatt mit Lichter & Lenker
DTSTART:20251126T173000Z
URL:https://eintopf.info/event/9fcca70d-cbc1-458c-bdbe-99adc9c38171
DTEND:20251126T193000Z
CATEGORIES:DIY\,Mobilität
DESCRIPTION:Dein Fahrrad läuft nicht rund? Die Schaltung macht Probleme?
  Bei Lichter & Lenker helfen wir dir weiter! Ob Bremsen\, Schaltung oder
  Reifen - wir stehen dir mit Rat und Tat zur Seite. Außerdem bieten wir
  Ersatzteile zu fairen Preisen an. Komm vorbei und mach dein Fahrrad
  wieder fit. Wir freuen uns auf dich!\n
LOCATION:Raupe Immersatt\, Johannesstraße 97\, Stuttgart
GEO:48.782018;9.1579717
ORGANIZER:mailto:Lichter & Lenker
END:VEVENT
END:VCALENDAR
