BEGIN:VCALENDAR
VERSION:2.0
PRODID:eintopf.info
METHOD:REQUEST
BEGIN:VEVENT
UID:9f56b01a-6125-45af-860e-ac40828e012c
SUMMARY:Critical Mass November 2025
DTSTART:20251107T173000Z
URL:https://eintopf.info/event/9f56b01a-6125-45af-860e-ac40828e012c
CATEGORIES:Gesellig\,Mobilität
DESCRIPTION:Die Critical Mass: mehr als nur eine Radtour in der Stadt.
  criticalmassstuttgart.wordpress.com\nhttps://umap.openstreetmap.de/de/map
 /critical-mass-stuttgart_109602#13/48.7837/9.1802
LOCATION:Feuerseeplatz\, Feuerseeplatz 10 70176 Stuttgart Deutschland
GEO:48.7729401;9.1634766
ORGANIZER:mailto:Critical Mass Stuttgart
END:VEVENT
END:VCALENDAR
