BEGIN:VCALENDAR
VERSION:2.0
PRODID:eintopf.info
METHOD:REQUEST
BEGIN:VEVENT
UID:9eee2d00-282f-48d1-b23d-53ffad5f8f14
SUMMARY:Ende Gelände Kneipenabend
DTSTART:20231026T180000Z
URL:https://eintopf.info/event/9eee2d00-282f-48d1-b23d-53ffad5f8f14
DESCRIPTION:Du willst politisch aktiv werden\, dich mit anderen connecten
  und für einen Systemwandel einsetzen? Dann ist unser offener
  Kneipenabend am Donnerstag den 26.10 vielleicht genau das Richtige für
  dich!\n\nEnde Gelände befindet sich gerade bundesweit in einer
  Umstrukturierung. Wir wollen als OG Stuttgart diesen Prozess mitgestalten
  und suchen motivierte Menschen\, die mit uns diesen Weg gehen wollen.
LOCATION:Raupe Immersatt\, Johannesstraße 97\, Stuttgart
GEO:48.782018;9.1579717
ORGANIZER:mailto:Ende Gelände Stuttgart
END:VEVENT
END:VCALENDAR
