BEGIN:VCALENDAR
VERSION:2.0
PRODID:eintopf.info
METHOD:REQUEST
BEGIN:VEVENT
UID:9e1102a8-a54e-44b9-87e3-6930cfa8a782
SUMMARY:Gasparitsch-Kneipe
DTSTART:20250523T190000Z
URL:https://eintopf.info/event/9e1102a8-a54e-44b9-87e3-6930cfa8a782
DTEND:20250523T225000Z
CATEGORIES:Gesellig\,Sonstiges
DESCRIPTION:jeden Freitag ab 20 Uhr mit leckerem Essen\, Getränke – in
  netter Atmosphäre
LOCATION:Stadtteilzentrum Gasparitsch\, Rotenbergstr. 125\, 70190 Stuttgart
GEO:48.788058;9.2116285
ORGANIZER:mailto:Stadtteilzentrum Gasparitsch
END:VEVENT
END:VCALENDAR
