BEGIN:VCALENDAR
VERSION:2.0
PRODID:eintopf.info
METHOD:REQUEST
BEGIN:VEVENT
UID:9dcf2003-90c1-4ff0-877a-95c30c7b340b
SUMMARY:FEMINISMUS LAUT & STARK - zum Vernetzen und Empowern
DTSTART:20260131T180000Z
URL:https://eintopf.info/event/9dcf2003-90c1-4ff0-877a-95c30c7b340b
DTEND:20260131T223000Z
CATEGORIES:Vortrag\,Feminismus
DESCRIPTION:
LOCATION:Villa BarRock\, Pflugfelder Str. 5\, 71636 Ludwigsburg
GEO:48.8928856;9.183911
ORGANIZER:mailto:G.R.U.N.Z. e.V.
END:VEVENT
END:VCALENDAR
