BEGIN:VCALENDAR
VERSION:2.0
PRODID:eintopf.info
METHOD:REQUEST
BEGIN:VEVENT
UID:9d9988ed-e60a-4d64-a88a-fe792f80140a
SUMMARY:Klimastreik
DTSTART:20260227T173000Z
URL:https://eintopf.info/event/9d9988ed-e60a-4d64-a88a-fe792f80140a
CATEGORIES:Demonstration\,Klimagerechtigkeit
DESCRIPTION:📷⁩ ⁨Klimaklage gewinnt – Klimaschutz muss
  nachgebessert werden!\nProtest wirkt vor Gerichten und auf der
  Straße!\n\nAm 27.02.2026 ist es wieder soweit: Der nächste Klimastreik
  findet in Ludwigsburg statt 🥳\n\nUm 18:30 Uhr starten wir auf dem
  Ludwigsburger Arsenalplatz und ziehen laut und bunt durch die
  Innenstadt.\n\nKurz vor der Landtagswahl zeigen wir: Die Klimakrise
  lässt sich nicht weg ignorieren und wir alle können die Lösungen
  mitgestalten. Eine gut besuchte Demonstration bedeutet\, dass politisch
  wieder nach den besten Lösungen gerungen werden muss. Und dafür gehen
  wir gemeinsam auf die Straße!\n\nWir freuen uns mit euch zahlreich am
  27.2. auf die Straße zu gehen und kreative Demoschilder 🪧 zu sehen
  🥰\n\n📣 „What do we want? – Climate Justice – When do we want
  it? – Now!“⁩
LOCATION:Arsenalplatz Ludwigsburg\, Arsenalplatz Ludwigsburg
GEO:48.8952683;9.1888437
ORGANIZER:mailto:Fridays for Future Ludwigsburg
END:VEVENT
END:VCALENDAR
