BEGIN:VCALENDAR
VERSION:2.0
PRODID:eintopf.info
METHOD:REQUEST
BEGIN:VEVENT
UID:9d91acec-dbe9-46c7-9a28-3c6d9b6ea5e4
SUMMARY:Feierabendkonzert: Andy Wilsing & Valeria Grizzaffi
DTSTART:20221103T183000Z
URL:https://eintopf.info/event/9d91acec-dbe9-46c7-9a28-3c6d9b6ea5e4
DESCRIPTION:Ab  November starten wir eine Kooperation mit dem
  Feierabendkollektiv – in den Herbst- und Wintermonaten freuen wir uns
  einmal monatlich auf wundervolle Liedermacher:innen\, die mit ihrer
  handgemachten Musik euren Feierabend einläuten.\n\nLos geht’s mit Andy
  Wilsing // www.andywilsing.de:\nSeine Songs sind tiefgründig in Wort und
  Melodie und dabei doch so poppig eingängig daß man sie immer wieder
  hören will – klassische Ohrwürmer eben. Seine Stimme markant und
  unverwechselbar gepaart mit seinem versierten Gitarrenspiel. Von
  melancholisch-zerbrechlich-zartschmelzend-wunderschön bis
  rockig-rotzig-kraftvoll. Andy Wilsing ist in seiner Facettenvielfalt
  sicher eine Ausnahmeerscheinung und aus der Stuttgarter Liedermacherszene
  nicht mehr wegzudenken.\n\nSupport spielt Valeria
  Grizzaffi\nhttps://www.instagram.com/valeria_grizzaffi\nhttps://soundclou
 d.com/valeria-grizzaffi
LOCATION:Raupe Immersatt\, Johannesstraße 97\, Stuttgart
GEO:48.782018;9.1579717
ORGANIZER:mailto:Raupe Immersatt,Feierabendkollektiv
END:VEVENT
END:VCALENDAR
