BEGIN:VCALENDAR
VERSION:2.0
PRODID:eintopf.info
METHOD:REQUEST
BEGIN:VEVENT
UID:9ce2c83f-6a2f-4ae5-85a8-7e966164e907
SUMMARY:Quizkneipe zum Tag der Befreiung
DTSTART:20240508T180000Z
URL:https://eintopf.info/event/9ce2c83f-6a2f-4ae5-85a8-7e966164e907
DESCRIPTION:Feiere den Tag der Befreiung mit unserem besonderen Quiz-Event
  in der Kneipe!\nAm 8. Mai laden wir dich zu einem Abend voller Wissen\,
  Spaß und Gemeinschaft ein. Teste dein Wissen über historische
  Ereignisse\, Held*innen der Befreiung und revolutionäre Wendepunkte. In
  gemütlicher Kneipenatmosphäre erwarten dich knifflige Fragen und
  spannende Diskussionen. Freue dich auf leckere Getränke\, gute
  Gesellschaft und ein Quiz\, das nicht nur unterhält\, sondern auch an
  die bedeutenden Momente erinnert\, die uns den Weg in eine bessere
  Zukunft geebnet haben.\nSei dabei\, lerne dazu und feiere mit uns den Tag
  der Befreiung!
LOCATION:Demokratisches Zentrum Ludwigsburg (DemoZ)\,  Wilhelmstr. 45/1
  71638 Ludwigsburg 
GEO:48.89585;9.18429
ORGANIZER:mailto:Demokratisches Zentrum Ludwigsburg (DemoZ)
END:VEVENT
END:VCALENDAR
