BEGIN:VCALENDAR
VERSION:2.0
PRODID:eintopf.info
METHOD:REQUEST
BEGIN:VEVENT
UID:9cd336d3-e186-4136-8a55-c388186cd7c3
SUMMARY:Zukunftsinsel
DTSTART:20250927T120000Z
URL:https://eintopf.info/event/9cd336d3-e186-4136-8a55-c388186cd7c3
DTEND:20250927T210000Z
CATEGORIES:Konzert & Party\,Klimagerechtigkeit
DESCRIPTION:Die Stuttgarter Veranstaltungskollektive laden zum
  Sommerabschluss auf die Kulturinsel ein - kommt mit uns zur
  Zukunftsinsel!\n\nEinen Samstag lang werden Kunst und Kultur\, Musik und
  Gemeinschaft für alle erlebbar – mit barrierefreien Zugängen\, Tanz-
  und Bewegungsworkshops für jedes Alter und einem bunten musikalischen
  Programm zwischen DJ-Sets und Live-Shows.\nLos geht’s ab 14 Uhr -
  Eintritt auf Spendenbasis. Tickets bitte für ALLE von 1-111
  buchen!\n\nhttps://www.kulturinsel-stuttgart.org/event-details/zukunfts-i
 nsel
LOCATION:Kulturinsel\, Güterstraße 4\, 70372 Stuttgart
GEO:48.7974711;9.2264063
ORGANIZER:mailto:IK Meetup & Kulturinsel Stuttgart
END:VEVENT
END:VCALENDAR
