BEGIN:VCALENDAR
VERSION:2.0
PRODID:eintopf.info
METHOD:REQUEST
BEGIN:VEVENT
UID:9c211caf-f5cd-4859-a126-4deaeeb9bda6
SUMMARY:ZuZules veganer Mitbring Lunch
DTSTART:20250809T100000Z
URL:https://eintopf.info/event/9c211caf-f5cd-4859-a126-4deaeeb9bda6
DTEND:20250809T120000Z
CATEGORIES:Workshop\,Ernährung
DESCRIPTION:\n\njede*r bringt pro erwachsene Person ein veganes Gericht
  (süß oder herzhaft\, kalt oder warm) fürs gemeinsame reichhaltig
  leckere pflanzliche Buffet mit.\n\nGetränkeverkauf für unsere
  gemeinnützige Tätigkeit\n\nZeit zum gemeinsamen Schlemmen\, Gerichte
  ausprobieren\, Rezepte tauschen\, sich unterhalten und eine gute
  ZuZule-Zeit zu haben.\n\nPlätze sind begrenzt\, deswegen nur mit
  Anmeldung >>>\n\nAnmeldung unter ZuZule@mail.de
LOCATION:ZuZule Begegnungsort\, Aichschießer Str. 2\, 73773 Aichwald
GEO:48.7589835;9.378939
ORGANIZER:mailto:ZuZule - Zusammen Zukunft leben
END:VEVENT
END:VCALENDAR
