BEGIN:VCALENDAR
VERSION:2.0
PRODID:eintopf.info
METHOD:REQUEST
BEGIN:VEVENT
UID:9ac8ad1b-9fc3-4a1c-bb75-7ad80b3520f2
SUMMARY:Überfall auf Rojava - aktuelle Angriffe auf die Selbstverwaltung
  und die Stadt Kobanê
DTSTART:20260130T180000Z
URL:https://eintopf.info/event/9ac8ad1b-9fc3-4a1c-bb75-7ad80b3520f2
DTEND:20260130T200000Z
CATEGORIES:Vortrag\,Antifaschismus
DESCRIPTION:Seit über einer Woche sind die Gebiete im Nord-Osten Syrien\,
  die ihr vielleicht als Rojava kennt\, von Milizen des islamischen Staats
  (IS)\, des türkischen Staats und der selbst ernannten Regierung Syriens
  unter al-Jolani beispiellosen Angriffen ausgesetzt. IS-Kämpfer werden
  aus Gefängnissen befreit\, wo sie\, seit der Befreiung vom IS 2014\, von
  der Selbstverwaltung bewacht wurden. Die Dschihadisten wollen Rache an
  den Kurden\, Alewiten\, Jesiden und anderen Minderheiten in Rojava
  nehmen. Die Gewalt der Milizen ist abstoßend und täglich finden weitere
  Gräueltaten statt. Die Stadt Kobanê ist von den Milizen umstellt
  worden. Elektrizität und Wasser wurden gekappt und täglich finden
  militärische Vorstöße statt.\n\nTim Krüger ist freier Journalist und
  war mehrmals mit Medienprojekten in Rojava. Er wird über die aktuellen
  Entwicklungen und den Widerstand der Bevölkerung sprechen.
LOCATION:Prisma\, Bahnhofstraße 14-18\, 70372 Stuttgart
GEO:48.8024492;9.2171569
ORGANIZER:mailto:Initiative Rojava Solidarität
END:VEVENT
END:VCALENDAR
