BEGIN:VCALENDAR
VERSION:2.0
PRODID:eintopf.info
METHOD:REQUEST
BEGIN:VEVENT
UID:99dfbf06-6d13-4c62-aa46-5577afcef789
SUMMARY:WANDEL.KINO: "Triangle of Sadness"
DTSTART:20240925T173000Z
URL:https://eintopf.info/event/99dfbf06-6d13-4c62-aa46-5577afcef789
CATEGORIES:Kino\,Sonstiges
DESCRIPTION:\n\nWir freuen uns\, euch mit unserer neuen Film-Reihe
  „WANDEL.KINO“ inspirierende Filmwerke zu zeigen\, die in uns etwas
  nachhaltig ausgelöst haben: Filme\, die gesellschaftspolitische Impulse
  setzen\, die Lust machen\, sich tiefgehender mit sozialen-ökologischen
  Themen zu beschäftigen. Filme\, die Missstände aufzeigen und uns zum
  Nachdenken anregen. Filme\, die aber auch Räume für neue Möglichkeiten
  und Chancen öffnen und uns ermuntern\, gleich loszulegen. Filme\, die
  die Schönheit unserer Erde porträtieren und die uns motivieren\, unsere
  Routinen und Muster zu durchbrechen\, um für ihren Erhalt in Zeiten der
  Klimakrise zu kämpfen.\nKOMMT ZUM FILM-ABEND IN DER RAUPE UND ERLEBT
  DIESMAL „TRIANGLE OF SADNESS“ (SE\, 2022)\n\nMit sorgsam inszenierten
  Instagramfotos nehmen die Models Carl (Harris Dickinson) und Yaya
  (Charlbi Dean) ihre Follower auf eine Reise durch ihre perfekte
  (Mode-)Welt mit – und zwar rund um die Uhr. Als das junge Paar die
  Einladung zu einer Luxuskreuzfahrt annimmt\, treffen sie an Bord der
  Megayacht auf russische Oligarchen\, skandinavische IT-Milliardäre\,
  britische Waffenhändler\, gelangweilte Ehefrauen und einen Kapitän
  (Woody Harrelson)\, der im Alkoholrausch Marx zitiert. Zunächst
  verläuft der Törn zwischen Sonnenbaden\, Smalltalk und
  Champagnerfrühstück absolut selfietauglich. Doch während des
  Captain’s Dinners zieht ein Sturm auf und das Paar findet sich auf
  einer einsamen Insel wieder\, zusammen mit einer Gruppe von Milliardären
  und einer Reinigungskraft (Dolly De Leon) des Schiffes. Plötzlich ist
  die Hierarchie auf den Kopf gestellt\, denn die Reinigungskraft ist die
  Einzige\, die Feuer machen und fischen kann.\n\nRegisseur Ruben Östlund
  gewann für die scharfe Gesellschaftskritik im Mai – fünf Jahre nach
  dem Erfolg von THE SQUARE – erneut die Goldene Palme bei den
  Filmfestspielen in Cannes. Diesmal blickt der Schwede mit bitterbösem
  Humor auf eine Welt\, die sich in Habende und Habenichtse aufteilt\,
  schildert einen Mikrokosmos aus Models\, Influencern\, Millionären\,
  Dienstpersonal und Arbeitern. Doch die glänzende Fassade beginnt zu
  bröckeln. Ruben Östlund mixt Drama\, Satire und Slapstick gekonnt zu
  einer nie gesehenen\, explosiven Melange und sichert sich endgültig
  seinen Status als einer der bedeutendsten Filmemacher der Gegenwart. So
  unterhaltsam provokant hält derzeit kein anderer Regisseur der
  Gesellschaft einen Spiegel vor.\nHINTERGRUND\n\nDie Raupe fördert den
  Erhalt von Independent-Filmen und setzt sich damit für mehr analoge
  Filmkunst ein. Mit einem Besuch der Veranstaltung unterstützt ihr nicht
  nur die Raupe als gemeinnützigen Kultur- und Bildungsort\, sondern auch
  unabhängige Filmverleihe und Filmeschaffende\, deren Werke fernab von
  Streaming-Giganten produziert und verliehen werden. Lasst uns echte
  Programmvielfalt leben und uns auch daran erinnern\, die Kino-Kultur und
  all die vielen kleinen Filmtheater zu erhalten!\n\nEin großes
  Dankeschön geht an dieser Stelle an das Kulturamt der Stadt Stuttgart\,
  das die Filmreihe mit einer Kulturförderung unterstützt.\n
LOCATION:Raupe Immersatt\, Johannesstraße 97\, Stuttgart
GEO:48.782018;9.1579717
ORGANIZER:mailto:Raupe Immersatt
END:VEVENT
END:VCALENDAR
