BEGIN:VCALENDAR
VERSION:2.0
PRODID:eintopf.info
METHOD:REQUEST
BEGIN:VEVENT
UID:99879c3c-915e-416e-8e2d-8ecfe4055504
SUMMARY:Mad Pride Day
DTSTART:20251011T113000Z
URL:https://eintopf.info/event/99879c3c-915e-416e-8e2d-8ecfe4055504
DTEND:20251011T180000Z
CATEGORIES:Demonstration\,Gesundheit
DESCRIPTION:
LOCATION:Parade ab Lautenschlagerstraße 24\; Feier CVJM Stuttgart
  Büchsenstraße 37\, Lautenschlagerstraße 24\, Stuttgart
GEO:48.7808512;9.1773334
ORGANIZER:mailto:Landesverband Psychiatrieerfahrener
END:VEVENT
END:VCALENDAR
