BEGIN:VCALENDAR
VERSION:2.0
PRODID:eintopf.info
METHOD:REQUEST
BEGIN:VEVENT
UID:9876c6c9-5d78-42b8-89ee-d2f744e31c08
SUMMARY:Georg Elser und das Hotel Silber
DTSTART:20250409T170000Z
URL:https://eintopf.info/event/9876c6c9-5d78-42b8-89ee-d2f744e31c08
DTEND:20250409T183000Z
CATEGORIES:Podiumsdiskussion\,Antifaschismus
DESCRIPTION:Wer war Georg Elser und was bewegte ihn zu seiner Tat?\nWie
  ordnen wir sein Handeln heute ein?\nWie sprechen wir über den Widerstand
  im NS?\nWie erinnern wir heute an Georg Elser?\n\n\nKurzvortrag\,
  Filmclip und Gespräch zum 80. Todestag von Georg Elser\n\nMittwoch 09.
  04.2025\n19 Uhr\nHotel Silber Foyer\nDorotheenstraße 10\, 700173
  Stuttgart\n\nMit Joachim Ziller\, langjähriger Leiter der
  Georg-Elser-Gedenkstätte Königsbronn\,\n\nMit Anja Zeitz und Markus
  Sonnenschein\, die zusammen mit Joachim Ziller ein Bildungsprojekt für
  Auszubildende der Stadtverwaltung Singen\, der Gemeinde Königsbronn und
  Anwärter*innen des Hauptzollamtes Singen entwickelt haben\, das Georg
  Elser in den Mittelpunkt stellt.\n\nMit Nina Hauber\, die eine
  wissenschaftliche Zulassungsarbeit über die Entwicklungen und
  Veränderungen in der Wahrnehmung von Georg Elser und seiner Tat verfasst
  hat.\n\nUnd mit einer Gruppe von Schüler:innen des Wagenburg-Gymnasiums
  Stuttgart\, die sich zurzeit intensiv mit der Zeit des
  Nationalsozialismus und der Erinnerung daran beschäftigen.\nModeration:
  Friederike Hartl\, Stadtjugendring Stuttgart\n\nEintritt frei\nIhre
  Anmeldung unter veranstaltungen-hs@hdgbw.de hilft uns bei der Planung.
LOCATION:Erinnerungsort Hotel Silber\, Dorotheenstraße 10\, 70173
  Stuttgart
ORGANIZER:mailto:Initiative Lern- und Gedenkort Hotel Silber,Haus der
  Geschichte Baden-Württemberg,Stadtjugendring Stuttgart,Georg Elser
  Gedenkstätte Königsbronn
END:VEVENT
END:VCALENDAR
