BEGIN:VCALENDAR
VERSION:2.0
PRODID:eintopf.info
METHOD:REQUEST
BEGIN:VEVENT
UID:986b39d8-e598-42e4-bff2-c8574ff2cfd3
SUMMARY:Kundgebung: Alle zusammen gegen die AfD
DTSTART:20240120T130000Z
URL:https://eintopf.info/event/986b39d8-e598-42e4-bff2-c8574ff2cfd3
DESCRIPTION: Wer Menschen deportieren will\, ist und bleibt ein Nazi!
  🔺🌊\n \nIn vielen Städten gehen derzeit Menschen gemeinsam gegen
  die AfD auf die Straßen. Mit der Correctiv Recherche\, die vergangene
  Woche veröffentlicht wurde\, ist einmal mehr deutlich geworden: die AfD
  ist eine faschistische Partei. Aus ihrem Programm spricht nicht nur Hass
  und Menschenfeindlichkeit - die AfD ist auch dabei mit ihren Freund*innen
  aus Kreisen der Jungfaschisten der Identitären Bewegung\, den
  ultrakonservativen von der CDU nahen „Werteunion“ aber auch mit
  wohlhabenden Unterstützer*innen Pläne zu schmieden. Unter dem Titel
  „Remigration“ wurde ein Plan entwickelt\, der gar nicht so neu ist:
  Deportation von Asylsuchenden und Migrant*innen. Spätestens jetzt\,
  sollten wir uns zusammentun und der AfD und ihren Freund*innen zeigen\,
  was wir von ihnen halten: sie sind Nazis und Gegner*innen eines
  solidarischen Miteinander.\n \nDie Kundgebung findet kommenden Samstag\,
  20.1. um 14 Uhr in Stuttgart statt. Der genauere Ort wird noch bekannt
  gegeben. Mit dem Protest am Samstag wollen wir auch einen Auftakt machen
  - am 24.2. findet in Stuttgart die überregionale Demonstration „Die
  rechte Welle brechen“ statt. Lasst uns jetzt damit anfangen!\n
  \n#rechtewellebrechen\n#wellenbrecher #0711 #bawü #badenwürttemberg
  #demo #Antifaschismus #noafd #afd #Antirassismus #geasabschaffen
  #geas#seenotrettung #flucht #asyl #asylrecht #refugeeswelcome
  #asylistmenschenrecht #fluchtursachenbekämpfen #repression #Solidarität
  #Stuttgartgegenrechts #allezusammengegendenfaschismus #antifascista
  #instagram #correctiv\n \nMehr Infos gibt’s auf facebook
  (https://www.facebook.com/stuttgartgegenrechts/)\, twitter
  (https://twitter.com/stgtgegenrechts)\, instagram
  (https://www.instagram.com/stuttgartgegenrechts/) und unserem Blog
  (http://www.stuttgart-gegen-rechts.de). 
LOCATION:Neues Schloss\, Schloßplatz 4\, Stuttgart
ORGANIZER:mailto:Stuttgart gegen Rechts
END:VEVENT
END:VCALENDAR
