BEGIN:VCALENDAR
VERSION:2.0
PRODID:eintopf.info
METHOD:REQUEST
BEGIN:VEVENT
UID:97ea3119-bf5d-4b1c-bc78-e9809e385384
SUMMARY:SoLaWiS Koordinationskreistreffen
DTSTART:20260414T170000Z
URL:https://eintopf.info/event/97ea3119-bf5d-4b1c-bc78-e9809e385384
DTEND:20260414T190000Z
CATEGORIES:Offenes Treffen\,Ernährung
DESCRIPTION:Monatliches Treffen der SoLaWi Stuttgart Mitglieder und
  Interessierte
LOCATION:Reyerhof\, Unteraicher Str. 8\, 70567 Stuttgart
GEO:48.7244278;9.144928017131475
ORGANIZER:mailto:Solidarische Landwirtschaft Stuttgart
END:VEVENT
END:VCALENDAR
