BEGIN:VCALENDAR
VERSION:2.0
PRODID:eintopf.info
METHOD:REQUEST
BEGIN:VEVENT
UID:970eb664-3f36-450a-853f-99f1207865ac
SUMMARY:Offenes Treffen zur Kampagne "Erinnern heißt Widerstand"
DTSTART:20260108T180000Z
URL:https://eintopf.info/event/970eb664-3f36-450a-853f-99f1207865ac
CATEGORIES:Offenes Treffen\,Antirassimus
DESCRIPTION:Wir starten unser Jahr und sind mitten in der Planung zum 6.
  Jahrestag des rassistischen Anschlag in Hanau am 19.02.2020 und möchten
  euch unsere Kampagne: "Erinnern heißt Widerstand" vorstellen und was
  ansteht in den nächsten Wochen!\n\nKommt vorbei! Für Snacks und Çay
  ist gesorgt!\nYallah Migrantifa! ✊🏽
LOCATION:Prisma\, Bahnhofstraße 14-18\, 70372 Stuttgart
GEO:48.8024492;9.2171569
ORGANIZER:mailto:Migrantifa Stuttgart
END:VEVENT
END:VCALENDAR
