BEGIN:VCALENDAR
VERSION:2.0
PRODID:eintopf.info
METHOD:REQUEST
BEGIN:VEVENT
UID:96ef618a-d518-4b4b-9080-f1e95eea4ae0
SUMMARY:Kolonialer Stadtrundgang
DTSTART:20250323T130000Z
URL:https://eintopf.info/event/96ef618a-d518-4b4b-9080-f1e95eea4ae0
CATEGORIES:Workshop\,Antirassimus
DESCRIPTION:Um den heutigen Rassismus begreifen und überwinden zu können
  ist es wichtig\, seine Entstehung und seine Geschichte zu verstehen. Dazu
  gehört auch der europäische Kolonialismus des 19. Jahrhunderts\, dessen
  Auswirkungen bis heute spürbar sind. Auch in Ludwigsburg ist die
  Kolonialgeschichte bis heute an vielen Stellen in der Stadt
  nachzufühlen. Als ehemals wichtige Garnison- (Militär-) Stadt hat
  Ludwigsburg damals eine tragende Rolle gespielt. Auf die Spuren der
  Vergangenheit wollen wir uns begeben und an verschiedenen Stellen in der
  Ludwigsburger Innenstadt zurück blicken.\n\nWir stellen Fragen und
  suchen nach Antworten: Wer hat im Raum Ludwigsburg besonders vom
  Kolonialismus profitiert? Welche Beteiligung hatte Deutschland\, speziell
  die Stadt Ludwigsburg an kolonialen Eroberungen? Gleichzeitig wollen wir
  die Spanne zur Gegenwart öffnen: Welche Spuren finden wir bis heute im
  Stadtbild? Welche Kontinuität zieht sich durch? Und welche
  Schlussfolgerungen können wir daraus zu unserem heutigen Handeln
  ziehen?\n\nDer koloniale Stadtrundgang führt uns auf eine knapp 2 km
  lange Runde durch die Innenstadt. Wir werden an verschiedenen Stellen
  Zwischenstopps einlegen\, an denen es entsprechende Inputs geben wird.
  Aber wir wollen auch gemeinsam in den Austausch kommen\, deswegen freuen
  wir uns über eine aktive Beteiligung. Die Inhalte des kolonialen
  Stadtrundganges wird es auch als Handreichung geben.\n\nDie Teilnahme ist
  kostenlos – über eine Spende würden wir uns jedoch freuen!\n\nDie
  Veranstaltung findet im Rahmen der Wochen gegen Rassismus in Ludwigsburg
  statt.\n\nHinweis: Die Mittel zu dieser Veranstaltung stammen aus dem
  baden-württembergischen Staatshaushalt\, den der Landtag von
  Baden-Württemberg beschlossen hat.
LOCATION:Demokratisches Zentrum Ludwigsburg (DemoZ)\,  Wilhelmstr. 45/1
  71638 Ludwigsburg 
GEO:48.89585;9.18429
ORGANIZER:mailto:Demokratisches Zentrum Ludwigsburg (DemoZ)
END:VEVENT
END:VCALENDAR
