BEGIN:VCALENDAR
VERSION:2.0
PRODID:eintopf.info
METHOD:REQUEST
BEGIN:VEVENT
UID:9651b84b-c217-41b6-b9af-6a2d0e037fdb
SUMMARY:Soli-Kneipe für Hanna & alle gefangenen Antifas
DTSTART:20250214T190000Z
URL:https://eintopf.info/event/9651b84b-c217-41b6-b9af-6a2d0e037fdb
CATEGORIES:Sonstiges\,Antifaschismus
DESCRIPTION:Wir sind alle Antifa | Freiheit für alle Antifa | Schreibt den
  gefangenen Antifa | Antifa bleibt notwendig\n\n+++ Input zur aktuellen
  Verfolgung von Antifas +++ Gefangenenschreiben +++ Transpi-Malen +++
  Infos zur Demo +++ Austausch +++ Musik +++ Getränke +++\n\nAm 19.02.2025
  beginnt in München der Prozess gegen Hanna. Ihr wird vorgeworfen gegen
  Nazis\, die in Budapest u.a. in SS-Uniformen aufmarschiert sind\,
  vorgegangen zu sein und diese verletzt zu haben. Aus diesem Grund findet
  am 22.02.2025 eine Demonstration für Hanna in München
  statt.\n\n-----\n\nSoli-Kneipe für Hanna & alle gefangenen
  Antifas\nFreitag\, 14. Februar\, 20 Uhr\nGasparitsch\nRotenbergstr. 125\,
  U4 Ostendplatz\, U9 Raitelsberg\n\n-----
LOCATION:Stadtteilzentrum Gasparitsch\, Rotenbergstr. 125\, 70190 Stuttgart
GEO:48.788058;9.2116285
ORGANIZER:mailto:organisierte autonomie Stuttgart
END:VEVENT
END:VCALENDAR
