BEGIN:VCALENDAR
VERSION:2.0
PRODID:eintopf.info
METHOD:REQUEST
BEGIN:VEVENT
UID:95d30c5f-6e51-40ce-bdcf-fe0441e623c5
SUMMARY:Zusammen wohnen – Gemeinschaft leben: Offenes Treffen
DTSTART:20260419T123000Z
URL:https://eintopf.info/event/95d30c5f-6e51-40ce-bdcf-fe0441e623c5
DTEND:20260419T150000Z
CATEGORIES:Offenes Treffen\,Wohnen
DESCRIPTION:Wir sind eine durchmischte Gruppe von Menschen\, mit dem Ziel
  in oder um Ludwigsburg zusammen zu wohnen und befinden uns gerade in der
  Findungsphase.\nAktuell verstehen wir uns als Projekt-Plattform aus
  Interessierten am Wohnen in Gemeinschaft. Im Detail können die
  Vorstellungen außeinandergehen\, weshalb dann einzelne Projekte aus der
  Gruppe hervorsprießen können\, sobald es durch eine geeignete Immobilie
  oder ein Bauvorhaben konkret wird.\n\nZur Planung treffen wir uns derzeit
  einmal im Monat im offenen Austausch.\nDu bist interessiert? Dann komme
  gerne zu einem unserer Treffen ins DemoZ.
LOCATION:Demokratisches Zentrum Ludwigsburg (DemoZ)\,  Wilhelmstr. 45/1
  71638 Ludwigsburg 
GEO:48.89585;9.18429
ORGANIZER:mailto:Demokratisches Zentrum Ludwigsburg (DemoZ)
END:VEVENT
END:VCALENDAR
