BEGIN:VCALENDAR
VERSION:2.0
PRODID:eintopf.info
METHOD:REQUEST
BEGIN:VEVENT
UID:956813e1-a294-4d67-bcb9-92cd38a49b36
SUMMARY:Rems-Queer-Kreis Gruppentreffen auf der Trans* Pride Stuttgart
  🏳️‍⚧️
DTSTART:20230902T092500Z
URL:https://eintopf.info/event/956813e1-a294-4d67-bcb9-92cd38a49b36
DTEND:20230902T170000Z
DESCRIPTION:👥 Unser kommendes Gruppentreffen liegt genau auf dem Termin
  der trans* Pride in Stuttgart also werden wir zusammen hingehen.\nDie
  trans* Pride ist offen für alle\, aber hat einen besonderen Fokus auf
  die Belange von trans Personen aufmerksam zu machen\n\n🚉 Wir treffen
  uns am Samstag\, den 02.09. um 11:25 Uhr in Backnang am Bahnhof und
  fahren dann gemeinsam mit der Bahn nach Stuttgart. Die Rückfahrt liegt
  in eurer eigenen Verantwortung\, wir können aber schon Gruppen für die
  Rückfahrt bilden\, damit kein Mensch alleine nach Hause muss!\n\n📣
  🪧 Die Demo beginnt auf dem Schlossplatz Stuttgart und läuft von 13:00
  Uhr bis 15:00 Uhr\, anschließend gibt es ein Bühnenprogramm. \n\n🎫
  Es gibt die Möglichkeit\, dass wir VVS Gruppentickets für Menschen
  kaufen\, die sich die Fahrt sonst nicht leisten könnten. Schreibt uns
  falls ihr ein Ticket benötigt eine DM oder Mail.\n\n🎒 Bitte denkt an
  genug Verpflegung\, Sonnen- und Regenschutz sowie eure Demoschilder!
  Gefährliche Gegenstände sowie Alkohol müssen daheim bleiben.\n\n\nDer
  Rems-Queer-Kreis ist eine Jugendgruppe für queere Jugendliche bis 27
  Jahren. Also offen für alle die sich als lesbisch\, schwul\, bisexuell\,
  pansexuell\, trans\, inter\, queer\, asexuell oder aromantisch etc.
  identifizieren. Auch Allys\, Neugierige und Menschen\, die sich fragen ob
  sie vielleicht queer sind sind willkommen.
LOCATION:Schlossplatz Stuttgart\, Treffpunkt für Anreise Backnang Bahnhof
ORGANIZER:mailto:Rems-Queer-Kreis
END:VEVENT
END:VCALENDAR
