BEGIN:VCALENDAR
VERSION:2.0
PRODID:eintopf.info
METHOD:REQUEST
BEGIN:VEVENT
UID:9562414e-a0e4-4943-bc7a-93b64c9887e6
SUMMARY:Gasparitsch Stammtisch
DTSTART:20240730T170000Z
URL:https://eintopf.info/event/9562414e-a0e4-4943-bc7a-93b64c9887e6
DTEND:20240730T203000Z
DESCRIPTION:In lockerer Kneipenatmosphäre sprechen wir über das
  Gasparitsch\, Ideen für neue Angebote oder wie man das Stadtteilzentrum
  und den Stadtteil gemeinsam noch besser machen können!\n\nJeden letzten
  Dienstag im Monat\, 19 Uhr\nim Gasparitsch
LOCATION:Stadtteilzentrum Gasparitsch\, Rotenbergstr. 125\, 70190 Stuttgart
GEO:48.788058;9.2116285
END:VEVENT
END:VCALENDAR
