BEGIN:VCALENDAR
VERSION:2.0
PRODID:eintopf.info
METHOD:REQUEST
BEGIN:VEVENT
UID:9463cc74-6028-422a-a541-af54e2d3adb4
SUMMARY:Repair Café in der Mittwochskneipe
DTSTART:20240117T183000Z
URL:https://eintopf.info/event/9463cc74-6028-422a-a541-af54e2d3adb4
DESCRIPTION:Egal ob Nostalgie\, Finanznot\, Umweltschutz oder einfach kein
  Bock auf schon wieder was Neues – das Repair Café versucht ganz ohne
  Heißgetränk zu retten\, was zu retten ist! Noch irgendwas unklar? Dann
  komm‘ und frag‘!\n\nNächste Termine: 21. Februar und 20. März 2024
LOCATION:Demokratisches Zentrum Ludwigsburg (DemoZ)\,  Wilhelmstr. 45/1
  71638 Ludwigsburg 
GEO:48.89585;9.18429
ORGANIZER:mailto:Demokratisches Zentrum Ludwigsburg (DemoZ)
END:VEVENT
END:VCALENDAR
