BEGIN:VCALENDAR
VERSION:2.0
PRODID:eintopf.info
METHOD:REQUEST
BEGIN:VEVENT
UID:93e3689c-aeaa-4ccc-949b-1ca230f95c53
SUMMARY:Punkrock-Kneipe
DTSTART:20260410T180000Z
URL:https://eintopf.info/event/93e3689c-aeaa-4ccc-949b-1ca230f95c53
CATEGORIES:Gesellig\,Sonstiges
DESCRIPTION:Genug Alltag\, Zeit für Subkultur im DemoZ. Wir tauschen
  „gemütliches Beisammensein“ gegen Punkrock aus den Boxen. Kommt
  vorbei\, wenn ihr Bock auf einen Abend habt\, der nach Tresen riecht und
  nach verzerrten Gitarren klingt. Ob zum Versacken in der Kneipe oder zum
  wilden Diskutieren\, wir sehen uns am Tresen.\n \n\nHinweis: Die Mittel
  zu dieser Veranstaltung stammen aus dem baden-württembergischen
  Staatshaushalt\, den der Landtag von Baden-Württemberg beschlossen hat.
LOCATION:Demokratisches Zentrum Ludwigsburg (DemoZ)\,  Wilhelmstr. 45/1
  71638 Ludwigsburg 
GEO:48.89585;9.18429
ORGANIZER:mailto:Demokratisches Zentrum Ludwigsburg (DemoZ)
END:VEVENT
END:VCALENDAR
