BEGIN:VCALENDAR
VERSION:2.0
PRODID:eintopf.info
METHOD:REQUEST
BEGIN:VEVENT
UID:93c5a8f7-c986-4a45-8854-c976f7f73894
SUMMARY:Veganer Mitbring-Brunch Bad Cannstatt
DTSTART:20260322T093000Z
URL:https://eintopf.info/event/93c5a8f7-c986-4a45-8854-c976f7f73894
CATEGORIES:Gesellig\,Ernährung
DESCRIPTION:Hallo zusammen\,\nwir möchten euch am 22.03.26 zum Veganen
  Mitbring-Brunch in Bad Cannstatt einladen\, nur 1 Gehminute vom Bhf Bad
  Cannstatt. Eingeladen sind natürlich auch alle Nicht-Veganer\, die sich
  einmal durch die vegane Cuisine schlemmen möchten.\n\nZum Ablauf:\nWir
  nutzen die Räume von commons kitchen/ bike kitchen im ehem.
  Schwabenbräu-Gebäude.\nEinlass ab 10:30 Uhr\, um das Buffet aufzubauen.
  Bitte bringt eine Speise für das Buffet (von Vorspeise bis Nachtisch ist
  alles willkommen) und Getränk(e) nach eigener Vorliebe (Saft\,
  Smoothie\, Kakao\, Tee\, Kaffee in Thermoskanne) mit. Die Küche ist gut
  ausgestattet\, ausreichend Geschirr und Besteck ist vorhanden. Der Brunch
  dient auch dem Netzwerken und wer eine vegane Idee\, Termin oder Event
  kurz vorzustellen will\, wird dazu Gelegenheit bekommen.\n\nFür alle
  Brunch-Neulinge noch ein paar Infos:\n+ Eine Anmeldung ist nicht
  erforderlich.\n+ Die Teilnahme ist kostenlos\, aber nur mit einem
  kulinarischen Beitrag für das Buffet möglich.\n+ Bitte bringt keine
  alkoholischen Getränke mit.\n+ Bitte beschriftet eure Speisen mit: 1.
  Name der Speise\, 2.eurem Namen und 3. für Allergiker relevante Zutaten.
  Hierfür genügt ein angeklebter Zettel oder ein Aufstellkärtchen.\n+ Um
  am Ende keine Lebensmittel wegwerfen zu müssen\, bringt bitte eine leere
  Tupperdose mit.\n+ Ei\, Milch\, Butter\, Käse\, Joghurt\, Sahne\, Honig
  oder manche Fette sind nicht vegan\, falls nicht anders
  gekennzeichnet.\n+ Um Kosten für Strom\, Wasser\, Heizung und
  Verbrauchsmittel zu decken\, werden wir eine Spendendose aufstellen.\n+
  Es wäre toll\, wenn sich am Ende der Veranstaltung einige Freiwillige
  finden\, die uns beim Aufräumen und Durchfegen noch
  unterstützen.\n\nBei Fragen wendet euch gerne an uns!\nBeste Grüße\,
  Gero
LOCATION:In den Räumen von Commons Kitchen\, Bad Cannstatt. 1. OG\,
  Bahnhofstraße 14-18.\, Im ehem. Schwabenbräu-Gebäude\, jetzt Prisma.
ORGANIZER:mailto:Gero/ Christian
END:VEVENT
END:VCALENDAR
