BEGIN:VCALENDAR
VERSION:2.0
PRODID:eintopf.info
METHOD:REQUEST
BEGIN:VEVENT
UID:939256e5-090d-4f56-8005-e036001e1499
SUMMARY:Wir reden drüber – die Diskussionsrunde im Osten zum Thema
  „Selbstbestimmungsrecht über den Körper?! Kinder oder keine
  entscheiden wir alleine! Ist das so?“
DTSTART:20250916T170000Z
URL:https://eintopf.info/event/939256e5-090d-4f56-8005-e036001e1499
CATEGORIES:Workshop\,Feminismus
DESCRIPTION:Welche Voraussetzungen brauchen wir um selbstbestimmt eine
  Entscheidung für oder gegen Kinder treffen zu können? Wie muss die
  Gesellschaft dafür aufgebaut sein und welche rechtlichen und
  wirtschaftlichen Hürden stehen uns dabei im Weg?\n\nBlicken wir auf den
  Rechtsruck in Gesellschaft und Politik\, steht es eher schlecht um das
  Selbstbestimmungsrecht von Schwangeren über ihren Körper und die
  Zeichen stehen auf einen Roll-Back in die Kaiserzeit. So ist die noch von
  der alten Bundesregierung einberufene „Kommission zur reproduktiven
  Selbstbestimmung und Fortpflanzungsmedizin“ krachend gescheitert oder
  eher gekonnt wegignoriert worden und unter einer Regierung Merz ist mit
  wenig Bewegung in eine fortschrittliche Richtung zu rechnen.\n\nAuch wenn
  es europa- und weltweit lautstarke Frauenbewegungen und
  Liberalisierungsbestrebungen des Rechts auf einen Schwangerschaftsabbruch
  gibt\, müssen wir immer häufiger von der Beschneidung des Rechts auf
  einen Schwangerschaftsabbruch hören\, so z.B. in Polen oder der
  USA.\n\nJedes Jahr im September wird der Safe Abortion Day begangen. Dies
  wollen wir zum Anlass nehmen\, um zusammen darüber zu diskutieren was
  wir trotzdem unternehmen können und welche Punkte auf dem Weg zu einem
  echten Selbstbestimmungsrecht über den Körper und eine freie und
  emanzipatorische Entscheidung für oder gegen Kinder wichtig sind.\n\nDie
  Diskussionsrunde startet am Dienstag\, den 16. September ab 19 Uhr im
  Stadtteilzentrum Gasparitsch (Rotenbergstraße 125\, 70190 Stuttgart).
LOCATION:Stadtteilzentrum Gasparitsch\, Rotenbergstr. 125\, 70190 Stuttgart
GEO:48.788058;9.2116285
ORGANIZER:mailto:organisierte autonomie Stuttgart
END:VEVENT
END:VCALENDAR
