BEGIN:VCALENDAR
VERSION:2.0
PRODID:eintopf.info
METHOD:REQUEST
BEGIN:VEVENT
UID:90881f83-8916-4982-8459-afd40f65c8e4
SUMMARY:Mobil durch die Polizeikette: Gemeinsam der AFD Widersetzen
DTSTART:20251123T130000Z
URL:https://eintopf.info/event/90881f83-8916-4982-8459-afd40f65c8e4
DTEND:20251123T150000Z
CATEGORIES:Workshop\,Antifaschismus
DESCRIPTION:Aktionstraining zur Vorbereitung auf die Proteste gegen die
  AfD-Jugend-Gründung in Gießen\nGemeinsam mit der Roten Hilfe laden wir
  euch zu einem dreistündigen Aktionstraining ein\, um uns gemeinsam auf
  die Proteste von Widersetzen am 29. November vorzubereiten. Von
  Demo-1x1\, über rechtliche Infos\, Umgang mit Polizei und Repressionen
  sowie praktische Übungen für sicheres und solidarisches Handeln
  während und nach der Aktion. Wir freuen uns auf euch!
LOCATION:Prisma\, Bahnhofstraße 14-18\, 70372 Stuttgart
GEO:48.8024492;9.2171569
ORGANIZER:mailto:Kesselbambule,Widersetzen,Stuttgart gegen Rechts
END:VEVENT
END:VCALENDAR
